View In:
ArcGIS JavaScript
EEA Discomap Portal
ArcGIS Earth
Service Description: Marine Ecosystems prperly colored with accurete attrributes and with non marine area's data eliminated.
Name: Ecosystem/MarineEcosystems
Description: Marine Ecosystems prperly colored with accurete attrributes and with non marine area's data eliminated.
Single Fused Map Cache: false
Extent:
XMin: 587500.0
YMin: 756300.0000000009
XMax: 7400000.0
YMax: 6822800.000000001
Spatial Reference: PROJCS["ETRS89_LAEA_Europe",GEOGCS["GCS_ETRS_1989",DATUM["D_ETRS_1989",SPHEROID["GRS_1980",6378137.0,298.257222101]],PRIMEM["Greenwich",0.0],UNIT["Degree",0.0174532925199433]],PROJECTION["Lambert_Azimuthal_Equal_Area"],PARAMETER["false_easting",4321000.0],PARAMETER["false_northing",3210000.0],PARAMETER["central_meridian",10.0],PARAMETER["latitude_of_origin",52.0],UNIT["Meter",1.0]]
Initial Extent:
XMin: 587500.0
YMin: 756300.0000000009
XMax: 7400000.0
YMax: 6822800.000000001
Spatial Reference: PROJCS["ETRS89_LAEA_Europe",GEOGCS["GCS_ETRS_1989",DATUM["D_ETRS_1989",SPHEROID["GRS_1980",6378137.0,298.257222101]],PRIMEM["Greenwich",0.0],UNIT["Degree",0.0174532925199433]],PROJECTION["Lambert_Azimuthal_Equal_Area"],PARAMETER["false_easting",4321000.0],PARAMETER["false_northing",3210000.0],PARAMETER["central_meridian",10.0],PARAMETER["latitude_of_origin",52.0],UNIT["Meter",1.0]]
Full Extent:
XMin: 587500.0
YMin: 756300.0000000009
XMax: 7400000.0
YMax: 6822800.000000001
Spatial Reference: PROJCS["ETRS89_LAEA_Europe",GEOGCS["GCS_ETRS_1989",DATUM["D_ETRS_1989",SPHEROID["GRS_1980",6378137.0,298.257222101]],PRIMEM["Greenwich",0.0],UNIT["Degree",0.0174532925199433]],PROJECTION["Lambert_Azimuthal_Equal_Area"],PARAMETER["false_easting",4321000.0],PARAMETER["false_northing",3210000.0],PARAMETER["central_meridian",10.0],PARAMETER["latitude_of_origin",52.0],UNIT["Meter",1.0]]
Pixel Size X: 100.0
Pixel Size Y: 100.0
Band Count: 1
Pixel Type: U8
RasterFunction Infos: {"rasterFunctionInfos": [{
"help": "",
"name": "None",
"description": ""
}]}
Mensuration Capabilities: Basic
Inspection Capabilities:
Has Histograms: true
Has Colormap: true
Has Multi Dimensions : false
Rendering Rule:
Min Scale: 0
Max Scale: 0
Copyright Text: © European Environment Agency
Service Data Type: esriImageServiceDataTypeThematic
Min Values: 11
Max Values: 250
Mean Values: 106.64158172387233
Standard Deviation Values: 8.5225572488944827
Object ID Field:
Fields:
None
Default Mosaic Method: Center
Allowed Mosaic Methods:
SortField:
SortValue: N/A
Mosaic Operator: First
Default Compression Quality: 75
Default Resampling Method: Nearest
Max Record Count: null
Max Image Height: 4100
Max Image Width: 15000
Max Download Image Count: null
Max Mosaic Image Count: null
Allow Raster Function: true
Allow Copy: true
Allow Analysis: true
Allow Compute TiePoints: false
Supports Statistics: false
Supports Advanced Queries: false
Use StandardizedQueries: false
Raster Type Infos:
Name: Raster Dataset
Description: Supports all ArcGIS Raster Datasets
Help:
Has Raster Attribute Table: true
Edit Fields Info: N/A
Ownership Based AccessControl For Rasters: N/A
Child Resources:
Info
Raster Attribute Table
Histograms
Statistics
Key Properties
Color Map
Legend
Raster Function Infos
Supported Operations:
Export Image
Identify
Measure
Compute Histograms
Compute Statistics Histograms
Get Samples
Compute Class Statistics
Query Boundary
Compute Pixel Location
Compute Angles
Validate
Project