{ "extent": { "ymin": 756300.00000000093, "xmin": 587500, "ymax": 6822800.0000000009, "xmax": 7400000, "spatialReference": { "wkt": "PROJCS[\"ETRS89_LAEA_Europe\",GEOGCS[\"GCS_ETRS_1989\",DATUM[\"D_ETRS_1989\",SPHEROID[\"GRS_1980\",6378137.0,298.257222101]],PRIMEM[\"Greenwich\",0.0],UNIT[\"Degree\",0.0174532925199433]],PROJECTION[\"Lambert_Azimuthal_Equal_Area\"],PARAMETER[\"false_easting\",4321000.0],PARAMETER[\"false_northing\",3210000.0],PARAMETER[\"central_meridian\",10.0],PARAMETER[\"latitude_of_origin\",52.0],UNIT[\"Meter\",1.0]]", "wkt2": "PROJCRS[\"ETRS89_LAEA_Europe\",BASEGEOGCRS[\"GCS_ETRS_1989\",DATUM[\"D_ETRS_1989\",ELLIPSOID[\"GRS_1980\",6378137.0,298.257222101]],PRIMEM[\"Greenwich\",0.0],CS[ellipsoidal,2],AXIS[\"Latitude (lat)\",north,ORDER[1]],AXIS[\"Longitude (lon)\",east,ORDER[2]],ANGLEUNIT[\"Degree\",0.0174532925199433]],CONVERSION[\"Lambert_Azimuthal_Equal_Area\",METHOD[\"Lambert_Azimuthal_Equal_Area\"],PARAMETER[\"false_easting\",4321000.0],PARAMETER[\"false_northing\",3210000.0],PARAMETER[\"central_meridian\",10.0],PARAMETER[\"latitude_of_origin\",52.0]],CS[Cartesian,2],AXIS[\"Easting (X)\",east,ORDER[1]],AXIS[\"Northing (Y)\",north,ORDER[2]],LENGTHUNIT[\"Meter\",1.0]]" } }, "blockWidth": 128, "mosaicOperator": "First", "serviceSourceType": "esriImageServiceSourceTypeDataset", "hasMultidimensions": false, "maxImageWidth": 15000, "meanValues": [106.64158172387233], "hasColormap": true, "compressionType": "NONE", "defaultCompressionQuality": 75, "maxValues": [250], "hasHistograms": true, "datasetFormat": "FGDBR", "maxImageHeight": 4100, "sortField": "", "bandNames": ["Band_1"], "spatialReference": { "wkt": "PROJCS[\"ETRS89_LAEA_Europe\",GEOGCS[\"GCS_ETRS_1989\",DATUM[\"D_ETRS_1989\",SPHEROID[\"GRS_1980\",6378137.0,298.257222101]],PRIMEM[\"Greenwich\",0.0],UNIT[\"Degree\",0.0174532925199433]],PROJECTION[\"Lambert_Azimuthal_Equal_Area\"],PARAMETER[\"false_easting\",4321000.0],PARAMETER[\"false_northing\",3210000.0],PARAMETER[\"central_meridian\",10.0],PARAMETER[\"latitude_of_origin\",52.0],UNIT[\"Meter\",1.0]]", "wkt2": "PROJCRS[\"ETRS89_LAEA_Europe\",BASEGEOGCRS[\"GCS_ETRS_1989\",DATUM[\"D_ETRS_1989\",ELLIPSOID[\"GRS_1980\",6378137.0,298.257222101]],PRIMEM[\"Greenwich\",0.0],CS[ellipsoidal,2],AXIS[\"Latitude (lat)\",north,ORDER[1]],AXIS[\"Longitude (lon)\",east,ORDER[2]],ANGLEUNIT[\"Degree\",0.0174532925199433]],CONVERSION[\"Lambert_Azimuthal_Equal_Area\",METHOD[\"Lambert_Azimuthal_Equal_Area\"],PARAMETER[\"false_easting\",4321000.0],PARAMETER[\"false_northing\",3210000.0],PARAMETER[\"central_meridian\",10.0],PARAMETER[\"latitude_of_origin\",52.0]],CS[Cartesian,2],AXIS[\"Easting (X)\",east,ORDER[1]],AXIS[\"Northing (Y)\",north,ORDER[2]],LENGTHUNIT[\"Meter\",1.0]]" }, "fullExtent": { "ymin": 756300.00000000093, "xmin": 587500, "ymax": 6822800.0000000009, "xmax": 7400000, "spatialReference": { "wkt": "PROJCS[\"ETRS89_LAEA_Europe\",GEOGCS[\"GCS_ETRS_1989\",DATUM[\"D_ETRS_1989\",SPHEROID[\"GRS_1980\",6378137.0,298.257222101]],PRIMEM[\"Greenwich\",0.0],UNIT[\"Degree\",0.0174532925199433]],PROJECTION[\"Lambert_Azimuthal_Equal_Area\"],PARAMETER[\"false_easting\",4321000.0],PARAMETER[\"false_northing\",3210000.0],PARAMETER[\"central_meridian\",10.0],PARAMETER[\"latitude_of_origin\",52.0],UNIT[\"Meter\",1.0]]", "wkt2": "PROJCRS[\"ETRS89_LAEA_Europe\",BASEGEOGCRS[\"GCS_ETRS_1989\",DATUM[\"D_ETRS_1989\",ELLIPSOID[\"GRS_1980\",6378137.0,298.257222101]],PRIMEM[\"Greenwich\",0.0],CS[ellipsoidal,2],AXIS[\"Latitude (lat)\",north,ORDER[1]],AXIS[\"Longitude (lon)\",east,ORDER[2]],ANGLEUNIT[\"Degree\",0.0174532925199433]],CONVERSION[\"Lambert_Azimuthal_Equal_Area\",METHOD[\"Lambert_Azimuthal_Equal_Area\"],PARAMETER[\"false_easting\",4321000.0],PARAMETER[\"false_northing\",3210000.0],PARAMETER[\"central_meridian\",10.0],PARAMETER[\"latitude_of_origin\",52.0]],CS[Cartesian,2],AXIS[\"Easting (X)\",east,ORDER[1]],AXIS[\"Northing (Y)\",north,ORDER[2]],LENGTHUNIT[\"Meter\",1.0]]" } }, "bandCount": 1, "rasterFunctionInfos": [{ "help": "", "name": "None", "description": "" }], "supportsStatistics": false, "sortableFields": "", "minValues": [11], "allowRasterFunction": true, "allowComputeTiePoints": false, "serviceDataType": "esriImageServiceDataTypeThematic", "supportsAdvancedQueries": false, "currentVersion": 12.1, "sortValue": null, "objectIdField": "", "blockHeight": 128, "initialExtent": { "ymin": 756300.00000000093, "xmin": 587500, "ymax": 6822800.0000000009, "xmax": 7400000, "spatialReference": { "wkt": "PROJCS[\"ETRS89_LAEA_Europe\",GEOGCS[\"GCS_ETRS_1989\",DATUM[\"D_ETRS_1989\",SPHEROID[\"GRS_1980\",6378137.0,298.257222101]],PRIMEM[\"Greenwich\",0.0],UNIT[\"Degree\",0.0174532925199433]],PROJECTION[\"Lambert_Azimuthal_Equal_Area\"],PARAMETER[\"false_easting\",4321000.0],PARAMETER[\"false_northing\",3210000.0],PARAMETER[\"central_meridian\",10.0],PARAMETER[\"latitude_of_origin\",52.0],UNIT[\"Meter\",1.0]]", "wkt2": "PROJCRS[\"ETRS89_LAEA_Europe\",BASEGEOGCRS[\"GCS_ETRS_1989\",DATUM[\"D_ETRS_1989\",ELLIPSOID[\"GRS_1980\",6378137.0,298.257222101]],PRIMEM[\"Greenwich\",0.0],CS[ellipsoidal,2],AXIS[\"Latitude (lat)\",north,ORDER[1]],AXIS[\"Longitude (lon)\",east,ORDER[2]],ANGLEUNIT[\"Degree\",0.0174532925199433]],CONVERSION[\"Lambert_Azimuthal_Equal_Area\",METHOD[\"Lambert_Azimuthal_Equal_Area\"],PARAMETER[\"false_easting\",4321000.0],PARAMETER[\"false_northing\",3210000.0],PARAMETER[\"central_meridian\",10.0],PARAMETER[\"latitude_of_origin\",52.0]],CS[Cartesian,2],AXIS[\"Easting (X)\",east,ORDER[1]],AXIS[\"Northing (Y)\",north,ORDER[2]],LENGTHUNIT[\"Meter\",1.0]]" } }, "pixelSizeX": 100, "pixelSizeY": 100, "defaultMosaicMethod": "Center", "name": "Ecosystem/MarineEcosystems", "allowedMosaicMethods": "", "fields": [], "allowAnalysis": true, "hasRasterAttributeTable": true, "useStandardizedQueries": false, "description": "
Marine Ecosystems prperly colored with accurete attrributes and with non marine area's data eliminated.<\/span><\/p><\/div><\/div>",
"pixelType": "U8",
"meanPixelSize": 100,
"exportTilesAllowed": false,
"editFieldsInfo": null,
"rasterTypeInfos": [{
"help": "",
"name": "Raster Dataset",
"description": "Supports all ArcGIS Raster Datasets"
}],
"defaultResamplingMethod": "Nearest",
"itemAccess": false,
"minScale": 0,
"serviceProperties": " Marine Ecosystems prperly colored with accurete attrributes and with non marine area's data eliminated.<\/span><\/p><\/div><\/div>",
"allowCopy": true,
"copyrightText": "© European Environment Agency",
"mensurationCapabilities": "Basic",
"ownershipBasedAccessControlForRasters": null
}