View In:
ArcGIS JavaScript
🌍 EEA Discomap Portal
ArcGIS Earth
Service Description: EUNIS/R21_Prob_test
Name: EUNIS/R21_Prob_test
Description:
Single Fused Map Cache: false
Extent:
XMin: 2762980
YMin: 1803680
XMax: 7050020
YMax: 4293020
Spatial Reference: 3035
(3035)
Initial Extent:
XMin: 2762980
YMin: 1803680
XMax: 7050020
YMax: 4293020
Spatial Reference: 3035
(3035)
Full Extent:
XMin: 2762980
YMin: 1803680
XMax: 7050020
YMax: 4293020
Spatial Reference: 3035
(3035)
Pixel Size X: 20.0
Pixel Size Y: 20.0
Band Count: 1
Pixel Type: S8
RasterFunction Infos: {"rasterFunctionInfos": [{
"name": "None",
"description": "",
"help": ""
}]}
Mensuration Capabilities: Basic
Has Histograms: true
Has Colormap: false
Has Multi Dimensions : false
Rendering Rule:
Min Scale: 0
Max Scale: 0
Copyright Text:
Service Data Type: esriImageServiceDataTypeGeneric
Min Values: 29
Max Values: 90
Mean Values: 40.22016954418697
Standard Deviation Values: 9.570070294373343
Object ID Field:
Fields:
None
Default Mosaic Method: Center
Allowed Mosaic Methods:
SortField:
SortValue: null
Mosaic Operator: First
Default Compression Quality: 75
Default Resampling Method: Nearest
Max Record Count: null
Max Image Height: 4100
Max Image Width: 15000
Max Download Image Count: null
Max Mosaic Image Count: null
Allow Raster Function: true
Allow Copy: true
Allow Analysis: true
Allow Compute TiePoints: false
Supports Statistics: false
Supports Advanced Queries: false
Use StandardizedQueries: true
Raster Type Infos:
Name: Raster Dataset
Description: Supports all ArcGIS Raster Datasets
Help:
Has Raster Attribute Table: true
Edit Fields Info: null
Ownership Based AccessControl For Rasters: null
Child Resources:
Info
Raster Attribute Table
Histograms
Statistics
Key Properties
Legend
Raster Function Infos
Supported Operations:
Export Image
Identify
Measure
Compute Histograms
Compute Statistics Histograms
Get Samples
Compute Class Statistics
Query Boundary
Compute Pixel Location
Compute Angles
Validate
Project