View In:
ArcGIS JavaScript
🌍 EEA Discomap Portal
ArcGIS Earth
Service Description: The image service shows marine ecossytems classified by MSFD codes and also includes coastal ecosystems classified by EUNIS code. raster is Ecosystems v3.1
Name: BISE/Ecosystems_MarineCoastal
Description: The image service shows marine ecossytems classified by MSFD codes and also includes coastal ecosystems classified by EUNIS code. raster is Ecosystems v3.1
Single Fused Map Cache: false
Extent:
XMin: -124000.0
YMin: 670000.0
XMax: 7476000.0
YMax: 7370000.0
Spatial Reference: 3035
(3035)
LatestVCSWkid(0)
Initial Extent:
XMin: -124000.0
YMin: 670000.0
XMax: 7476000.0
YMax: 7370000.0
Spatial Reference: 3035
(3035)
LatestVCSWkid(0)
Full Extent:
XMin: -124000.0
YMin: 670000.0
XMax: 7476000.0
YMax: 7370000.0
Spatial Reference: 3035
(3035)
LatestVCSWkid(0)
Pixel Size X: 100.0
Pixel Size Y: 100.0
Band Count: 1
Pixel Type: U8
RasterFunction Infos: {"rasterFunctionInfos": [
{
"name": "MSFD_EUNIS",
"description": "A raster function template.",
"help": ""
},
{
"name": "None",
"description": "",
"help": ""
}
]}
Mensuration Capabilities: Basic
Inspection Capabilities:
Has Histograms: true
Has Colormap: false
Has Multi Dimensions : false
Rendering Rule:
Min Scale: 0
Max Scale: 0
Copyright Text: © European environment Agency
Service Data Type: esriImageServiceDataTypeGeneric
Min Values: 1
Max Values: 184
Mean Values: 132.7137657332483
Standard Deviation Values: 59.929127033502645
Object ID Field:
Fields:
None
Default Mosaic Method: Center
Allowed Mosaic Methods:
SortField:
SortValue: null
Mosaic Operator: First
Default Compression Quality: 75
Default Resampling Method: Bilinear
Max Record Count: null
Max Image Height: 4100
Max Image Width: 15000
Max Download Image Count: null
Max Mosaic Image Count: null
Allow Raster Function: true
Allow Copy: true
Allow Analysis: true
Allow Compute TiePoints: false
Supports Statistics: false
Supports Advanced Queries: false
Use StandardizedQueries: true
Raster Type Infos:
Name: Raster Dataset
Description: Supports all ArcGIS Raster Datasets
Help:
Has Raster Attribute Table: true
Edit Fields Info: null
Ownership Based AccessControl For Rasters: null
Child Resources:
Info
Raster Attribute Table
Histograms
Statistics
Key Properties
Legend
Raster Function Infos
Supported Operations:
Export Image
Identify
Measure
Compute Histograms
Compute Statistics Histograms
Get Samples
Compute Class Statistics
Query Boundary
Compute Pixel Location
Compute Angles
Validate
Project