{ "extent": { "ymin": 756300.00000000093, "xmin": 587500, "ymax": 6822800.0000000009, "xmax": 7400000, "spatialReference": { "wkt": "PROJCS[\"ETRS_1989_LAEA\",GEOGCS[\"GCS_ETRS_1989\",DATUM[\"D_IRENET95\",SPHEROID[\"GRS_1980\",6378137.0,298.257222101]],PRIMEM[\"Greenwich\",0.0],UNIT[\"Degree\",0.0174532925199433]],PROJECTION[\"Lambert_Azimuthal_Equal_Area\"],PARAMETER[\"False_Easting\",4321000.0],PARAMETER[\"False_Northing\",3210000.0],PARAMETER[\"Central_Meridian\",10.0],PARAMETER[\"Latitude_Of_Origin\",52.0],UNIT[\"Meter\",1.0]]", "wkt2": "PROJCRS[\"ETRS_1989_LAEA\",BASEGEOGCRS[\"GCS_ETRS_1989\",DATUM[\"D_IRENET95\",ELLIPSOID[\"GRS_1980\",6378137.0,298.257222101]],PRIMEM[\"Greenwich\",0.0],CS[ellipsoidal,2],ANGLEUNIT[\"Degree\",0.0174532925199433]],CONVERSION[\"Lambert_Azimuthal_Equal_Area\",METHOD[\"Lambert_Azimuthal_Equal_Area\"],PARAMETER[\"False_Easting\",4321000.0],PARAMETER[\"False_Northing\",3210000.0],PARAMETER[\"Central_Meridian\",10.0],PARAMETER[\"Latitude_Of_Origin\",52.0]],CS[Cartesian,2],AXIS[\"Easting (X)\",east,ORDER[1]],AXIS[\"Northing (Y)\",north,ORDER[2]],LENGTHUNIT[\"Meter\",1.0]]" } }, "blockWidth": 128, "mosaicOperator": "First", "serviceSourceType": "esriImageServiceSourceTypeDataset", "hasMultidimensions": false, "maxImageWidth": 15000, "meanValues": [84.385504662694999], "hasColormap": true, "compressionType": "None", "defaultCompressionQuality": 75, "maxValues": [250], "hasHistograms": true, "datasetFormat": "TIFF", "maxImageHeight": 4100, "sortField": "", "bandNames": ["Band_1"], "spatialReference": { "wkt": "PROJCS[\"ETRS_1989_LAEA\",GEOGCS[\"GCS_ETRS_1989\",DATUM[\"D_IRENET95\",SPHEROID[\"GRS_1980\",6378137.0,298.257222101]],PRIMEM[\"Greenwich\",0.0],UNIT[\"Degree\",0.0174532925199433]],PROJECTION[\"Lambert_Azimuthal_Equal_Area\"],PARAMETER[\"False_Easting\",4321000.0],PARAMETER[\"False_Northing\",3210000.0],PARAMETER[\"Central_Meridian\",10.0],PARAMETER[\"Latitude_Of_Origin\",52.0],UNIT[\"Meter\",1.0]]", "wkt2": "PROJCRS[\"ETRS_1989_LAEA\",BASEGEOGCRS[\"GCS_ETRS_1989\",DATUM[\"D_IRENET95\",ELLIPSOID[\"GRS_1980\",6378137.0,298.257222101]],PRIMEM[\"Greenwich\",0.0],CS[ellipsoidal,2],ANGLEUNIT[\"Degree\",0.0174532925199433]],CONVERSION[\"Lambert_Azimuthal_Equal_Area\",METHOD[\"Lambert_Azimuthal_Equal_Area\"],PARAMETER[\"False_Easting\",4321000.0],PARAMETER[\"False_Northing\",3210000.0],PARAMETER[\"Central_Meridian\",10.0],PARAMETER[\"Latitude_Of_Origin\",52.0]],CS[Cartesian,2],AXIS[\"Easting (X)\",east,ORDER[1]],AXIS[\"Northing (Y)\",north,ORDER[2]],LENGTHUNIT[\"Meter\",1.0]]" }, "fullExtent": { "ymin": 756300.00000000093, "xmin": 587500, "ymax": 6822800.0000000009, "xmax": 7400000, "spatialReference": { "wkt": "PROJCS[\"ETRS_1989_LAEA\",GEOGCS[\"GCS_ETRS_1989\",DATUM[\"D_IRENET95\",SPHEROID[\"GRS_1980\",6378137.0,298.257222101]],PRIMEM[\"Greenwich\",0.0],UNIT[\"Degree\",0.0174532925199433]],PROJECTION[\"Lambert_Azimuthal_Equal_Area\"],PARAMETER[\"False_Easting\",4321000.0],PARAMETER[\"False_Northing\",3210000.0],PARAMETER[\"Central_Meridian\",10.0],PARAMETER[\"Latitude_Of_Origin\",52.0],UNIT[\"Meter\",1.0]]", "wkt2": "PROJCRS[\"ETRS_1989_LAEA\",BASEGEOGCRS[\"GCS_ETRS_1989\",DATUM[\"D_IRENET95\",ELLIPSOID[\"GRS_1980\",6378137.0,298.257222101]],PRIMEM[\"Greenwich\",0.0],CS[ellipsoidal,2],ANGLEUNIT[\"Degree\",0.0174532925199433]],CONVERSION[\"Lambert_Azimuthal_Equal_Area\",METHOD[\"Lambert_Azimuthal_Equal_Area\"],PARAMETER[\"False_Easting\",4321000.0],PARAMETER[\"False_Northing\",3210000.0],PARAMETER[\"Central_Meridian\",10.0],PARAMETER[\"Latitude_Of_Origin\",52.0]],CS[Cartesian,2],AXIS[\"Easting (X)\",east,ORDER[1]],AXIS[\"Northing (Y)\",north,ORDER[2]],LENGTHUNIT[\"Meter\",1.0]]" } }, "bandCount": 1, "rasterFunctionInfos": [{ "help": "", "name": "None", "description": "" }], "supportsStatistics": false, "sortableFields": "", "minValues": [11], "allowRasterFunction": true, "allowComputeTiePoints": false, "serviceDataType": "esriImageServiceDataTypeThematic", "supportsAdvancedQueries": false, "currentVersion": 12.1, "sortValue": null, "objectIdField": "", "blockHeight": 128, "initialExtent": { "ymin": 756300.00000000093, "xmin": 587500, "ymax": 6822800.0000000009, "xmax": 7400000, "spatialReference": { "wkt": "PROJCS[\"ETRS_1989_LAEA\",GEOGCS[\"GCS_ETRS_1989\",DATUM[\"D_IRENET95\",SPHEROID[\"GRS_1980\",6378137.0,298.257222101]],PRIMEM[\"Greenwich\",0.0],UNIT[\"Degree\",0.0174532925199433]],PROJECTION[\"Lambert_Azimuthal_Equal_Area\"],PARAMETER[\"False_Easting\",4321000.0],PARAMETER[\"False_Northing\",3210000.0],PARAMETER[\"Central_Meridian\",10.0],PARAMETER[\"Latitude_Of_Origin\",52.0],UNIT[\"Meter\",1.0]]", "wkt2": "PROJCRS[\"ETRS_1989_LAEA\",BASEGEOGCRS[\"GCS_ETRS_1989\",DATUM[\"D_IRENET95\",ELLIPSOID[\"GRS_1980\",6378137.0,298.257222101]],PRIMEM[\"Greenwich\",0.0],CS[ellipsoidal,2],ANGLEUNIT[\"Degree\",0.0174532925199433]],CONVERSION[\"Lambert_Azimuthal_Equal_Area\",METHOD[\"Lambert_Azimuthal_Equal_Area\"],PARAMETER[\"False_Easting\",4321000.0],PARAMETER[\"False_Northing\",3210000.0],PARAMETER[\"Central_Meridian\",10.0],PARAMETER[\"Latitude_Of_Origin\",52.0]],CS[Cartesian,2],AXIS[\"Easting (X)\",east,ORDER[1]],AXIS[\"Northing (Y)\",north,ORDER[2]],LENGTHUNIT[\"Meter\",1.0]]" } }, "pixelSizeX": 100, "pixelSizeY": 100, "defaultMosaicMethod": "Center", "name": "Ecosystem/Ecosystem_Image_Service", "allowedMosaicMethods": "", "fields": [], "allowAnalysis": true, "hasRasterAttributeTable": true, "useStandardizedQueries": false, "description": "
This Image Service was specifically created for Ecosystem Story Map, so its attributes are tailored to the map\u2019s needs.<\/span><\/p><\/div><\/div>",
"pixelType": "U8",
"meanPixelSize": 100,
"exportTilesAllowed": false,
"editFieldsInfo": null,
"rasterTypeInfos": [{
"help": "",
"name": "Raster Dataset",
"description": "Supports all ArcGIS Raster Datasets"
}],
"defaultResamplingMethod": "Nearest",
"itemAccess": false,
"minScale": 0,
"serviceProperties": " This Image Service was specifically created for Ecosystem Story Map, so its attributes are tailored to the map\u2019s needs.<\/span><\/p><\/div><\/div>",
"allowCopy": true,
"copyrightText": "© EEA, Copenhagen 2017",
"mensurationCapabilities": "Basic",
"ownershipBasedAccessControlForRasters": null
}